BEGIN:VCALENDAR
VERSION:2.0
PRODID:-//CB State of Mind - ECPv6.15.20//NONSGML v1.0//EN
CALSCALE:GREGORIAN
METHOD:PUBLISH
X-ORIGINAL-URL:https://cbstateofmind.org
X-WR-CALDESC:Events for CB State of Mind
REFRESH-INTERVAL;VALUE=DURATION:PT1H
X-Robots-Tag:noindex
X-PUBLISHED-TTL:PT1H
BEGIN:VTIMEZONE
TZID:America/Denver
BEGIN:DAYLIGHT
TZOFFSETFROM:-0700
TZOFFSETTO:-0600
TZNAME:MDT
DTSTART:20250309T090000
END:DAYLIGHT
BEGIN:STANDARD
TZOFFSETFROM:-0600
TZOFFSETTO:-0700
TZNAME:MST
DTSTART:20251102T080000
END:STANDARD
BEGIN:DAYLIGHT
TZOFFSETFROM:-0700
TZOFFSETTO:-0600
TZNAME:MDT
DTSTART:20260308T090000
END:DAYLIGHT
BEGIN:STANDARD
TZOFFSETFROM:-0600
TZOFFSETTO:-0700
TZNAME:MST
DTSTART:20261101T080000
END:STANDARD
BEGIN:DAYLIGHT
TZOFFSETFROM:-0700
TZOFFSETTO:-0600
TZNAME:MDT
DTSTART:20270314T090000
END:DAYLIGHT
BEGIN:STANDARD
TZOFFSETFROM:-0600
TZOFFSETTO:-0700
TZNAME:MST
DTSTART:20271107T080000
END:STANDARD
END:VTIMEZONE
BEGIN:VEVENT
DTSTART;TZID=America/Denver:20260424T180000
DTEND;TZID=America/Denver:20260424T190000
DTSTAMP:20260423T022543
CREATED:20260401T140520Z
LAST-MODIFIED:20260401T140520Z
UID:10002722-1777053600-1777057200@cbstateofmind.org
SUMMARY:Chats in the Park: Community Cultural Picnic
DESCRIPTION:Our friends at Juntos are bringing their Chats in the Kitchen series outside for a community picnic at Legion Park in Gunnison. Open to all\, join us for chatting and cultural learning while sharing a meal together. \nFollow @juntosporgunnison on Instagram for more information.
URL:https://cbstateofmind.org/event/chats-in-the-park-community-cultural-picnic/
CATEGORIES:Community Connections,Green Light
ATTACH;FMTTYPE=image/jpeg:https://cbstateofmind.org/wp-content/uploads/2026/04/Chats-in-the-kitchen-April-picnic.jpg
END:VEVENT
BEGIN:VEVENT
DTSTART;TZID=America/Denver:20260425T100000
DTEND;TZID=America/Denver:20260425T120000
DTSTAMP:20260423T022543
CREATED:20260401T141514Z
LAST-MODIFIED:20260401T141514Z
UID:10002727-1777111200-1777118400@cbstateofmind.org
SUMMARY:Facing the Mourning - Grief Support Group
DESCRIPTION:Cost: $25 for 4 sessions (scholarships available) \nCommunity Partner: Tri-County Health Network \nWe are pleased to share this 4-week grief support group running throughout the spring. Meeting at Sunset Hall in CB South\, this is an interactive\, peer-led workshop for those who have experienced the death of a significant person in their life. \nYou can sign up here. There are scholarships are available\, email j.hurst@tchnetwork.org for more information.
URL:https://cbstateofmind.org/event/facing-the-mourning-grief-support-group/
CATEGORIES:Community Connections,Green Light
ATTACH;FMTTYPE=image/png:https://cbstateofmind.org/wp-content/uploads/2026/04/Gunnison-Co-AprilMay-.pdf.png
END:VEVENT
BEGIN:VEVENT
DTSTART;TZID=America/Denver:20260426T160000
DTEND;TZID=America/Denver:20260426T170000
DTSTAMP:20260423T022543
CREATED:20260401T140655Z
LAST-MODIFIED:20260401T140656Z
UID:10002723-1777219200-1777222800@cbstateofmind.org
SUMMARY:Family Sound Bath
DESCRIPTION:The Mindful Toolbox presents a family-friendly sound bath for the spring. Here\, parents and kids can experience gentle\, calming sounds and vibrations of crystal bowls while kids have the opportunity to stay laying or play with mindfulness toys and activities! \nSign up at www.TheMindfulToolbox.org
URL:https://cbstateofmind.org/event/family-sound-bath/
CATEGORIES:Community Connections,Green Light
ATTACH;FMTTYPE=image/png:https://cbstateofmind.org/wp-content/uploads/2026/04/April-Emphasis.png
END:VEVENT
BEGIN:VEVENT
DTSTART;TZID=America/Denver:20260426T190000
DTEND;TZID=America/Denver:20260426T203000
DTSTAMP:20260423T022543
CREATED:20260402T232148Z
LAST-MODIFIED:20260402T232148Z
UID:10002729-1777230000-1777235400@cbstateofmind.org
SUMMARY:Water Limpia Grief Circle with Emily Parsons at Sanctuary Somatics
DESCRIPTION:
URL:https://cbstateofmind.org/event/water-limpia-grief-circle-with-emily-parsons-at-sanctuary-somatics/
CATEGORIES:Community Connections
ATTACH;FMTTYPE=image/jpeg:https://cbstateofmind.org/wp-content/uploads/2026/04/SaSo_Water_Limpia_April.jpeg
END:VEVENT
BEGIN:VEVENT
DTSTART;TZID=America/Denver:20260427T170000
DTEND;TZID=America/Denver:20260427T190000
DTSTAMP:20260423T022543
CREATED:20260402T232416Z
LAST-MODIFIED:20260402T232416Z
UID:10002733-1777309200-1777316400@cbstateofmind.org
SUMMARY:Mutual Aid Mondays (MAM) hosted by Rachel Alter Branham at The Dilly Deli in association with Food Not Bombs
DESCRIPTION:
URL:https://cbstateofmind.org/event/mutual-aid-mondays-mam-hosted-by-rachel-alter-branham-at-the-dilly-deli-in-association-with-food-not-bombs/2026-04-27/
CATEGORIES:Community Connections
ATTACH;FMTTYPE=image/png:https://cbstateofmind.org/wp-content/uploads/2026/04/MutualMondays.png
END:VEVENT
BEGIN:VEVENT
DTSTART;TZID=America/Denver:20260428T183000
DTEND;TZID=America/Denver:20260428T203000
DTSTAMP:20260423T022543
CREATED:20260402T232045Z
LAST-MODIFIED:20260402T232045Z
UID:10002728-1777401000-1777408200@cbstateofmind.org
SUMMARY:Dude Talk Dinner with Brothers Helping Brothers at Sanctuary Somatics
DESCRIPTION:
URL:https://cbstateofmind.org/event/dude-talk-dinner-with-brothers-helping-brothers-at-sanctuary-somatics/
CATEGORIES:Community Connections
ATTACH;FMTTYPE=image/jpeg:https://cbstateofmind.org/wp-content/uploads/2026/04/SaSo_DTD_April260428.jpeg
END:VEVENT
BEGIN:VEVENT
DTSTART;TZID=America/Denver:20260429T173000
DTEND;TZID=America/Denver:20260429T183000
DTSTAMP:20260423T022543
CREATED:20260401T140821Z
LAST-MODIFIED:20260401T140821Z
UID:10002724-1777483800-1777487400@cbstateofmind.org
SUMMARY:Alcohol-Free Community MTB Meetups -  Wednesday Evenings
DESCRIPTION:The second of the new monthly\, alcohol-free mountain biking series for the community\, Wednesday evening rides will be at Hartmans from April to September. As mentioned above\, there will be two monthly rides\, one on the third Saturday of each month and one on the last Wednesday of each month. \nThis second ride for April is Wednesday April 29th. Meet at Hartman Rocks (main TH parking lot) at 5:30pm for a 1hr ride\, trail TBD.
URL:https://cbstateofmind.org/event/alcohol-free-community-mtb-meetups-wednesday-evenings/
CATEGORIES:Community Connections,Green Light
ATTACH;FMTTYPE=image/png:https://cbstateofmind.org/wp-content/uploads/2026/04/The-Authored-Life-CC-April-MTB-Events-2.png
END:VEVENT
END:VCALENDAR