BEGIN:VCALENDAR
VERSION:2.0
PRODID:-//CB State of Mind - ECPv6.15.20//NONSGML v1.0//EN
CALSCALE:GREGORIAN
METHOD:PUBLISH
X-WR-CALNAME:CB State of Mind
X-ORIGINAL-URL:https://cbstateofmind.org
X-WR-CALDESC:Events for CB State of Mind
REFRESH-INTERVAL;VALUE=DURATION:PT1H
X-Robots-Tag:noindex
X-PUBLISHED-TTL:PT1H
BEGIN:VTIMEZONE
TZID:America/Denver
BEGIN:DAYLIGHT
TZOFFSETFROM:-0700
TZOFFSETTO:-0600
TZNAME:MDT
DTSTART:20250309T090000
END:DAYLIGHT
BEGIN:STANDARD
TZOFFSETFROM:-0600
TZOFFSETTO:-0700
TZNAME:MST
DTSTART:20251102T080000
END:STANDARD
BEGIN:DAYLIGHT
TZOFFSETFROM:-0700
TZOFFSETTO:-0600
TZNAME:MDT
DTSTART:20260308T090000
END:DAYLIGHT
BEGIN:STANDARD
TZOFFSETFROM:-0600
TZOFFSETTO:-0700
TZNAME:MST
DTSTART:20261101T080000
END:STANDARD
BEGIN:DAYLIGHT
TZOFFSETFROM:-0700
TZOFFSETTO:-0600
TZNAME:MDT
DTSTART:20270314T090000
END:DAYLIGHT
BEGIN:STANDARD
TZOFFSETFROM:-0600
TZOFFSETTO:-0700
TZNAME:MST
DTSTART:20271107T080000
END:STANDARD
END:VTIMEZONE
BEGIN:VEVENT
DTSTART;TZID=America/Denver:20260501T173000
DTEND;TZID=America/Denver:20260501T183000
DTSTAMP:20260423T045004
CREATED:20260401T141255Z
LAST-MODIFIED:20260401T141255Z
UID:10002726-1777656600-1777660200@cbstateofmind.org
SUMMARY:Full Moon Sound Bath
DESCRIPTION:Join Sage Transformations for the full moons in April and May for relaxing evenings and sound bath experiences. The cost is donation-based and kids are welcome. It is highly recommended to bring something to lay on and cozy up in to enjoy the experience. \nFor more information visit sagetransformations.com or call/text (970) 318-6995.
URL:https://cbstateofmind.org/event/full-moon-sound-bath-2/
CATEGORIES:Community Connections,Green Light
ATTACH;FMTTYPE=image/png:https://cbstateofmind.org/wp-content/uploads/2026/04/April_May-26-full-moon-sound-1.png
END:VEVENT
BEGIN:VEVENT
DTSTART;TZID=America/Denver:20260502T100000
DTEND;TZID=America/Denver:20260502T120000
DTSTAMP:20260423T045004
CREATED:20260419T030504Z
LAST-MODIFIED:20260419T030504Z
UID:10002804-1777716000-1777723200@cbstateofmind.org
SUMMARY:Facing the Mourning - Grief Support Group
DESCRIPTION:Cost: $25 for 4 sessions (scholarships available) \nCommunity Partner: Tri-County Health Network \nWe are pleased to share this 4-week grief support group running throughout the spring. Meeting at Sunset Hall in CB South\, this is an interactive\, peer-led workshop for those who have experienced the death of a significant person in their life. \nYou can sign up here. There are scholarships are available\, email j.hurst@tchnetwork.org for more information.
URL:https://cbstateofmind.org/event/facing-the-mourning-grief-support-group-2/
CATEGORIES:Community Connections,Green Light
ATTACH;FMTTYPE=image/png:https://cbstateofmind.org/wp-content/uploads/2026/04/Gunnison-Co-AprilMay-.pdf.png
END:VEVENT
BEGIN:VEVENT
DTSTART;TZID=America/Denver:20260504T170000
DTEND;TZID=America/Denver:20260504T190000
DTSTAMP:20260423T045004
CREATED:20260402T232416Z
LAST-MODIFIED:20260402T232416Z
UID:10002734-1777914000-1777921200@cbstateofmind.org
SUMMARY:Mutual Aid Mondays (MAM) hosted by Rachel Alter Branham at The Dilly Deli in association with Food Not Bombs
DESCRIPTION:
URL:https://cbstateofmind.org/event/mutual-aid-mondays-mam-hosted-by-rachel-alter-branham-at-the-dilly-deli-in-association-with-food-not-bombs/2026-05-04/
CATEGORIES:Community Connections
ATTACH;FMTTYPE=image/png:https://cbstateofmind.org/wp-content/uploads/2026/04/MutualMondays.png
END:VEVENT
BEGIN:VEVENT
DTSTART;TZID=America/Denver:20260509T100000
DTEND;TZID=America/Denver:20260509T120000
DTSTAMP:20260423T045004
CREATED:20260419T030533Z
LAST-MODIFIED:20260419T030533Z
UID:10002805-1778320800-1778328000@cbstateofmind.org
SUMMARY:Facing the Mourning - Grief Support Group
DESCRIPTION:Cost: $25 for 4 sessions (scholarships available) \nCommunity Partner: Tri-County Health Network \nWe are pleased to share this 4-week grief support group running throughout the spring. Meeting at Sunset Hall in CB South\, this is an interactive\, peer-led workshop for those who have experienced the death of a significant person in their life. \nYou can sign up here. There are scholarships are available\, email j.hurst@tchnetwork.org for more information.
URL:https://cbstateofmind.org/event/facing-the-mourning-grief-support-group-3/
CATEGORIES:Community Connections,Green Light
ATTACH;FMTTYPE=image/png:https://cbstateofmind.org/wp-content/uploads/2026/04/Gunnison-Co-AprilMay-.pdf.png
END:VEVENT
BEGIN:VEVENT
DTSTART;TZID=America/Denver:20260511T170000
DTEND;TZID=America/Denver:20260511T190000
DTSTAMP:20260423T045004
CREATED:20260402T232416Z
LAST-MODIFIED:20260402T232416Z
UID:10002735-1778518800-1778526000@cbstateofmind.org
SUMMARY:Mutual Aid Mondays (MAM) hosted by Rachel Alter Branham at The Dilly Deli in association with Food Not Bombs
DESCRIPTION:
URL:https://cbstateofmind.org/event/mutual-aid-mondays-mam-hosted-by-rachel-alter-branham-at-the-dilly-deli-in-association-with-food-not-bombs/2026-05-11/
CATEGORIES:Community Connections
ATTACH;FMTTYPE=image/png:https://cbstateofmind.org/wp-content/uploads/2026/04/MutualMondays.png
END:VEVENT
BEGIN:VEVENT
DTSTART;TZID=America/Denver:20260516T100000
DTEND;TZID=America/Denver:20260516T120000
DTSTAMP:20260423T045004
CREATED:20260419T030644Z
LAST-MODIFIED:20260419T030644Z
UID:10002806-1778925600-1778932800@cbstateofmind.org
SUMMARY:Facing the Mourning - Grief Support Group
DESCRIPTION:Cost: $25 for 4 sessions (scholarships available) \nCommunity Partner: Tri-County Health Network \nWe are pleased to share this 4-week grief support group running throughout the spring. Meeting at Sunset Hall in CB South\, this is an interactive\, peer-led workshop for those who have experienced the death of a significant person in their life. \nYou can sign up here. There are scholarships are available\, email j.hurst@tchnetwork.org for more information.
URL:https://cbstateofmind.org/event/facing-the-mourning-grief-support-group-4/
CATEGORIES:Community Connections
ATTACH;FMTTYPE=image/png:https://cbstateofmind.org/wp-content/uploads/2026/04/Gunnison-Co-AprilMay-.pdf.png
END:VEVENT
BEGIN:VEVENT
DTSTART;TZID=America/Denver:20260518T170000
DTEND;TZID=America/Denver:20260518T190000
DTSTAMP:20260423T045004
CREATED:20260402T232416Z
LAST-MODIFIED:20260402T232416Z
UID:10002736-1779123600-1779130800@cbstateofmind.org
SUMMARY:Mutual Aid Mondays (MAM) hosted by Rachel Alter Branham at The Dilly Deli in association with Food Not Bombs
DESCRIPTION:
URL:https://cbstateofmind.org/event/mutual-aid-mondays-mam-hosted-by-rachel-alter-branham-at-the-dilly-deli-in-association-with-food-not-bombs/2026-05-18/
CATEGORIES:Community Connections
ATTACH;FMTTYPE=image/png:https://cbstateofmind.org/wp-content/uploads/2026/04/MutualMondays.png
END:VEVENT
BEGIN:VEVENT
DTSTART;TZID=America/Denver:20260525T170000
DTEND;TZID=America/Denver:20260525T190000
DTSTAMP:20260423T045004
CREATED:20260402T232416Z
LAST-MODIFIED:20260402T232416Z
UID:10002737-1779728400-1779735600@cbstateofmind.org
SUMMARY:Mutual Aid Mondays (MAM) hosted by Rachel Alter Branham at The Dilly Deli in association with Food Not Bombs
DESCRIPTION:
URL:https://cbstateofmind.org/event/mutual-aid-mondays-mam-hosted-by-rachel-alter-branham-at-the-dilly-deli-in-association-with-food-not-bombs/2026-05-25/
CATEGORIES:Community Connections
ATTACH;FMTTYPE=image/png:https://cbstateofmind.org/wp-content/uploads/2026/04/MutualMondays.png
END:VEVENT
BEGIN:VEVENT
DTSTART;TZID=America/Denver:20260601T170000
DTEND;TZID=America/Denver:20260601T190000
DTSTAMP:20260423T045004
CREATED:20260402T232416Z
LAST-MODIFIED:20260402T232416Z
UID:10002738-1780333200-1780340400@cbstateofmind.org
SUMMARY:Mutual Aid Mondays (MAM) hosted by Rachel Alter Branham at The Dilly Deli in association with Food Not Bombs
DESCRIPTION:
URL:https://cbstateofmind.org/event/mutual-aid-mondays-mam-hosted-by-rachel-alter-branham-at-the-dilly-deli-in-association-with-food-not-bombs/2026-06-01/
CATEGORIES:Community Connections
ATTACH;FMTTYPE=image/png:https://cbstateofmind.org/wp-content/uploads/2026/04/MutualMondays.png
END:VEVENT
BEGIN:VEVENT
DTSTART;TZID=America/Denver:20260608T170000
DTEND;TZID=America/Denver:20260608T190000
DTSTAMP:20260423T045004
CREATED:20260402T232416Z
LAST-MODIFIED:20260402T232416Z
UID:10002739-1780938000-1780945200@cbstateofmind.org
SUMMARY:Mutual Aid Mondays (MAM) hosted by Rachel Alter Branham at The Dilly Deli in association with Food Not Bombs
DESCRIPTION:
URL:https://cbstateofmind.org/event/mutual-aid-mondays-mam-hosted-by-rachel-alter-branham-at-the-dilly-deli-in-association-with-food-not-bombs/2026-06-08/
CATEGORIES:Community Connections
ATTACH;FMTTYPE=image/png:https://cbstateofmind.org/wp-content/uploads/2026/04/MutualMondays.png
END:VEVENT
BEGIN:VEVENT
DTSTART;TZID=America/Denver:20260615T170000
DTEND;TZID=America/Denver:20260615T190000
DTSTAMP:20260423T045004
CREATED:20260402T232416Z
LAST-MODIFIED:20260402T232416Z
UID:10002740-1781542800-1781550000@cbstateofmind.org
SUMMARY:Mutual Aid Mondays (MAM) hosted by Rachel Alter Branham at The Dilly Deli in association with Food Not Bombs
DESCRIPTION:
URL:https://cbstateofmind.org/event/mutual-aid-mondays-mam-hosted-by-rachel-alter-branham-at-the-dilly-deli-in-association-with-food-not-bombs/2026-06-15/
CATEGORIES:Community Connections
ATTACH;FMTTYPE=image/png:https://cbstateofmind.org/wp-content/uploads/2026/04/MutualMondays.png
END:VEVENT
BEGIN:VEVENT
DTSTART;TZID=America/Denver:20260622T170000
DTEND;TZID=America/Denver:20260622T190000
DTSTAMP:20260423T045004
CREATED:20260402T232416Z
LAST-MODIFIED:20260402T232416Z
UID:10002741-1782147600-1782154800@cbstateofmind.org
SUMMARY:Mutual Aid Mondays (MAM) hosted by Rachel Alter Branham at The Dilly Deli in association with Food Not Bombs
DESCRIPTION:
URL:https://cbstateofmind.org/event/mutual-aid-mondays-mam-hosted-by-rachel-alter-branham-at-the-dilly-deli-in-association-with-food-not-bombs/2026-06-22/
CATEGORIES:Community Connections
ATTACH;FMTTYPE=image/png:https://cbstateofmind.org/wp-content/uploads/2026/04/MutualMondays.png
END:VEVENT
BEGIN:VEVENT
DTSTART;TZID=America/Denver:20260629T170000
DTEND;TZID=America/Denver:20260629T190000
DTSTAMP:20260423T045004
CREATED:20260402T232416Z
LAST-MODIFIED:20260402T232416Z
UID:10002742-1782752400-1782759600@cbstateofmind.org
SUMMARY:Mutual Aid Mondays (MAM) hosted by Rachel Alter Branham at The Dilly Deli in association with Food Not Bombs
DESCRIPTION:
URL:https://cbstateofmind.org/event/mutual-aid-mondays-mam-hosted-by-rachel-alter-branham-at-the-dilly-deli-in-association-with-food-not-bombs/2026-06-29/
CATEGORIES:Community Connections
ATTACH;FMTTYPE=image/png:https://cbstateofmind.org/wp-content/uploads/2026/04/MutualMondays.png
END:VEVENT
BEGIN:VEVENT
DTSTART;TZID=America/Denver:20260706T170000
DTEND;TZID=America/Denver:20260706T190000
DTSTAMP:20260423T045004
CREATED:20260402T232416Z
LAST-MODIFIED:20260402T232416Z
UID:10002743-1783357200-1783364400@cbstateofmind.org
SUMMARY:Mutual Aid Mondays (MAM) hosted by Rachel Alter Branham at The Dilly Deli in association with Food Not Bombs
DESCRIPTION:
URL:https://cbstateofmind.org/event/mutual-aid-mondays-mam-hosted-by-rachel-alter-branham-at-the-dilly-deli-in-association-with-food-not-bombs/2026-07-06/
CATEGORIES:Community Connections
ATTACH;FMTTYPE=image/png:https://cbstateofmind.org/wp-content/uploads/2026/04/MutualMondays.png
END:VEVENT
BEGIN:VEVENT
DTSTART;TZID=America/Denver:20260713T170000
DTEND;TZID=America/Denver:20260713T190000
DTSTAMP:20260423T045004
CREATED:20260402T232416Z
LAST-MODIFIED:20260402T232416Z
UID:10002744-1783962000-1783969200@cbstateofmind.org
SUMMARY:Mutual Aid Mondays (MAM) hosted by Rachel Alter Branham at The Dilly Deli in association with Food Not Bombs
DESCRIPTION:
URL:https://cbstateofmind.org/event/mutual-aid-mondays-mam-hosted-by-rachel-alter-branham-at-the-dilly-deli-in-association-with-food-not-bombs/2026-07-13/
CATEGORIES:Community Connections
ATTACH;FMTTYPE=image/png:https://cbstateofmind.org/wp-content/uploads/2026/04/MutualMondays.png
END:VEVENT
BEGIN:VEVENT
DTSTART;TZID=America/Denver:20260720T170000
DTEND;TZID=America/Denver:20260720T190000
DTSTAMP:20260423T045004
CREATED:20260402T232416Z
LAST-MODIFIED:20260402T232416Z
UID:10002745-1784566800-1784574000@cbstateofmind.org
SUMMARY:Mutual Aid Mondays (MAM) hosted by Rachel Alter Branham at The Dilly Deli in association with Food Not Bombs
DESCRIPTION:
URL:https://cbstateofmind.org/event/mutual-aid-mondays-mam-hosted-by-rachel-alter-branham-at-the-dilly-deli-in-association-with-food-not-bombs/2026-07-20/
CATEGORIES:Community Connections
ATTACH;FMTTYPE=image/png:https://cbstateofmind.org/wp-content/uploads/2026/04/MutualMondays.png
END:VEVENT
BEGIN:VEVENT
DTSTART;TZID=America/Denver:20260727T170000
DTEND;TZID=America/Denver:20260727T190000
DTSTAMP:20260423T045004
CREATED:20260402T232416Z
LAST-MODIFIED:20260402T232416Z
UID:10002746-1785171600-1785178800@cbstateofmind.org
SUMMARY:Mutual Aid Mondays (MAM) hosted by Rachel Alter Branham at The Dilly Deli in association with Food Not Bombs
DESCRIPTION:
URL:https://cbstateofmind.org/event/mutual-aid-mondays-mam-hosted-by-rachel-alter-branham-at-the-dilly-deli-in-association-with-food-not-bombs/2026-07-27/
CATEGORIES:Community Connections
ATTACH;FMTTYPE=image/png:https://cbstateofmind.org/wp-content/uploads/2026/04/MutualMondays.png
END:VEVENT
BEGIN:VEVENT
DTSTART;TZID=America/Denver:20260803T170000
DTEND;TZID=America/Denver:20260803T190000
DTSTAMP:20260423T045004
CREATED:20260402T232416Z
LAST-MODIFIED:20260402T232416Z
UID:10002747-1785776400-1785783600@cbstateofmind.org
SUMMARY:Mutual Aid Mondays (MAM) hosted by Rachel Alter Branham at The Dilly Deli in association with Food Not Bombs
DESCRIPTION:
URL:https://cbstateofmind.org/event/mutual-aid-mondays-mam-hosted-by-rachel-alter-branham-at-the-dilly-deli-in-association-with-food-not-bombs/2026-08-03/
CATEGORIES:Community Connections
ATTACH;FMTTYPE=image/png:https://cbstateofmind.org/wp-content/uploads/2026/04/MutualMondays.png
END:VEVENT
BEGIN:VEVENT
DTSTART;TZID=America/Denver:20260810T170000
DTEND;TZID=America/Denver:20260810T190000
DTSTAMP:20260423T045004
CREATED:20260402T232416Z
LAST-MODIFIED:20260402T232416Z
UID:10002748-1786381200-1786388400@cbstateofmind.org
SUMMARY:Mutual Aid Mondays (MAM) hosted by Rachel Alter Branham at The Dilly Deli in association with Food Not Bombs
DESCRIPTION:
URL:https://cbstateofmind.org/event/mutual-aid-mondays-mam-hosted-by-rachel-alter-branham-at-the-dilly-deli-in-association-with-food-not-bombs/2026-08-10/
CATEGORIES:Community Connections
ATTACH;FMTTYPE=image/png:https://cbstateofmind.org/wp-content/uploads/2026/04/MutualMondays.png
END:VEVENT
BEGIN:VEVENT
DTSTART;TZID=America/Denver:20260817T170000
DTEND;TZID=America/Denver:20260817T190000
DTSTAMP:20260423T045004
CREATED:20260402T232416Z
LAST-MODIFIED:20260402T232416Z
UID:10002749-1786986000-1786993200@cbstateofmind.org
SUMMARY:Mutual Aid Mondays (MAM) hosted by Rachel Alter Branham at The Dilly Deli in association with Food Not Bombs
DESCRIPTION:
URL:https://cbstateofmind.org/event/mutual-aid-mondays-mam-hosted-by-rachel-alter-branham-at-the-dilly-deli-in-association-with-food-not-bombs/2026-08-17/
CATEGORIES:Community Connections
ATTACH;FMTTYPE=image/png:https://cbstateofmind.org/wp-content/uploads/2026/04/MutualMondays.png
END:VEVENT
BEGIN:VEVENT
DTSTART;TZID=America/Denver:20260824T170000
DTEND;TZID=America/Denver:20260824T190000
DTSTAMP:20260423T045004
CREATED:20260402T232416Z
LAST-MODIFIED:20260402T232416Z
UID:10002750-1787590800-1787598000@cbstateofmind.org
SUMMARY:Mutual Aid Mondays (MAM) hosted by Rachel Alter Branham at The Dilly Deli in association with Food Not Bombs
DESCRIPTION:
URL:https://cbstateofmind.org/event/mutual-aid-mondays-mam-hosted-by-rachel-alter-branham-at-the-dilly-deli-in-association-with-food-not-bombs/2026-08-24/
CATEGORIES:Community Connections
ATTACH;FMTTYPE=image/png:https://cbstateofmind.org/wp-content/uploads/2026/04/MutualMondays.png
END:VEVENT
BEGIN:VEVENT
DTSTART;TZID=America/Denver:20260831T170000
DTEND;TZID=America/Denver:20260831T190000
DTSTAMP:20260423T045004
CREATED:20260402T232416Z
LAST-MODIFIED:20260402T232416Z
UID:10002751-1788195600-1788202800@cbstateofmind.org
SUMMARY:Mutual Aid Mondays (MAM) hosted by Rachel Alter Branham at The Dilly Deli in association with Food Not Bombs
DESCRIPTION:
URL:https://cbstateofmind.org/event/mutual-aid-mondays-mam-hosted-by-rachel-alter-branham-at-the-dilly-deli-in-association-with-food-not-bombs/2026-08-31/
CATEGORIES:Community Connections
ATTACH;FMTTYPE=image/png:https://cbstateofmind.org/wp-content/uploads/2026/04/MutualMondays.png
END:VEVENT
BEGIN:VEVENT
DTSTART;TZID=America/Denver:20260907T170000
DTEND;TZID=America/Denver:20260907T190000
DTSTAMP:20260423T045004
CREATED:20260402T232416Z
LAST-MODIFIED:20260402T232416Z
UID:10002752-1788800400-1788807600@cbstateofmind.org
SUMMARY:Mutual Aid Mondays (MAM) hosted by Rachel Alter Branham at The Dilly Deli in association with Food Not Bombs
DESCRIPTION:
URL:https://cbstateofmind.org/event/mutual-aid-mondays-mam-hosted-by-rachel-alter-branham-at-the-dilly-deli-in-association-with-food-not-bombs/2026-09-07/
CATEGORIES:Community Connections
ATTACH;FMTTYPE=image/png:https://cbstateofmind.org/wp-content/uploads/2026/04/MutualMondays.png
END:VEVENT
BEGIN:VEVENT
DTSTART;TZID=America/Denver:20260914T170000
DTEND;TZID=America/Denver:20260914T190000
DTSTAMP:20260423T045004
CREATED:20260402T232416Z
LAST-MODIFIED:20260402T232416Z
UID:10002753-1789405200-1789412400@cbstateofmind.org
SUMMARY:Mutual Aid Mondays (MAM) hosted by Rachel Alter Branham at The Dilly Deli in association with Food Not Bombs
DESCRIPTION:
URL:https://cbstateofmind.org/event/mutual-aid-mondays-mam-hosted-by-rachel-alter-branham-at-the-dilly-deli-in-association-with-food-not-bombs/2026-09-14/
CATEGORIES:Community Connections
ATTACH;FMTTYPE=image/png:https://cbstateofmind.org/wp-content/uploads/2026/04/MutualMondays.png
END:VEVENT
BEGIN:VEVENT
DTSTART;TZID=America/Denver:20260921T170000
DTEND;TZID=America/Denver:20260921T190000
DTSTAMP:20260423T045004
CREATED:20260402T232416Z
LAST-MODIFIED:20260402T232416Z
UID:10002754-1790010000-1790017200@cbstateofmind.org
SUMMARY:Mutual Aid Mondays (MAM) hosted by Rachel Alter Branham at The Dilly Deli in association with Food Not Bombs
DESCRIPTION:
URL:https://cbstateofmind.org/event/mutual-aid-mondays-mam-hosted-by-rachel-alter-branham-at-the-dilly-deli-in-association-with-food-not-bombs/2026-09-21/
CATEGORIES:Community Connections
ATTACH;FMTTYPE=image/png:https://cbstateofmind.org/wp-content/uploads/2026/04/MutualMondays.png
END:VEVENT
BEGIN:VEVENT
DTSTART;TZID=America/Denver:20260928T170000
DTEND;TZID=America/Denver:20260928T190000
DTSTAMP:20260423T045004
CREATED:20260402T232416Z
LAST-MODIFIED:20260402T232416Z
UID:10002755-1790614800-1790622000@cbstateofmind.org
SUMMARY:Mutual Aid Mondays (MAM) hosted by Rachel Alter Branham at The Dilly Deli in association with Food Not Bombs
DESCRIPTION:
URL:https://cbstateofmind.org/event/mutual-aid-mondays-mam-hosted-by-rachel-alter-branham-at-the-dilly-deli-in-association-with-food-not-bombs/2026-09-28/
CATEGORIES:Community Connections
ATTACH;FMTTYPE=image/png:https://cbstateofmind.org/wp-content/uploads/2026/04/MutualMondays.png
END:VEVENT
BEGIN:VEVENT
DTSTART;TZID=America/Denver:20261005T170000
DTEND;TZID=America/Denver:20261005T190000
DTSTAMP:20260423T045004
CREATED:20260402T232416Z
LAST-MODIFIED:20260402T232416Z
UID:10002756-1791219600-1791226800@cbstateofmind.org
SUMMARY:Mutual Aid Mondays (MAM) hosted by Rachel Alter Branham at The Dilly Deli in association with Food Not Bombs
DESCRIPTION:
URL:https://cbstateofmind.org/event/mutual-aid-mondays-mam-hosted-by-rachel-alter-branham-at-the-dilly-deli-in-association-with-food-not-bombs/2026-10-05/
CATEGORIES:Community Connections
ATTACH;FMTTYPE=image/png:https://cbstateofmind.org/wp-content/uploads/2026/04/MutualMondays.png
END:VEVENT
BEGIN:VEVENT
DTSTART;TZID=America/Denver:20261012T170000
DTEND;TZID=America/Denver:20261012T190000
DTSTAMP:20260423T045004
CREATED:20260402T232416Z
LAST-MODIFIED:20260402T232416Z
UID:10002757-1791824400-1791831600@cbstateofmind.org
SUMMARY:Mutual Aid Mondays (MAM) hosted by Rachel Alter Branham at The Dilly Deli in association with Food Not Bombs
DESCRIPTION:
URL:https://cbstateofmind.org/event/mutual-aid-mondays-mam-hosted-by-rachel-alter-branham-at-the-dilly-deli-in-association-with-food-not-bombs/2026-10-12/
CATEGORIES:Community Connections
ATTACH;FMTTYPE=image/png:https://cbstateofmind.org/wp-content/uploads/2026/04/MutualMondays.png
END:VEVENT
BEGIN:VEVENT
DTSTART;TZID=America/Denver:20261019T170000
DTEND;TZID=America/Denver:20261019T190000
DTSTAMP:20260423T045004
CREATED:20260402T232416Z
LAST-MODIFIED:20260402T232416Z
UID:10002758-1792429200-1792436400@cbstateofmind.org
SUMMARY:Mutual Aid Mondays (MAM) hosted by Rachel Alter Branham at The Dilly Deli in association with Food Not Bombs
DESCRIPTION:
URL:https://cbstateofmind.org/event/mutual-aid-mondays-mam-hosted-by-rachel-alter-branham-at-the-dilly-deli-in-association-with-food-not-bombs/2026-10-19/
CATEGORIES:Community Connections
ATTACH;FMTTYPE=image/png:https://cbstateofmind.org/wp-content/uploads/2026/04/MutualMondays.png
END:VEVENT
BEGIN:VEVENT
DTSTART;TZID=America/Denver:20261026T170000
DTEND;TZID=America/Denver:20261026T190000
DTSTAMP:20260423T045004
CREATED:20260402T232416Z
LAST-MODIFIED:20260402T232416Z
UID:10002759-1793034000-1793041200@cbstateofmind.org
SUMMARY:Mutual Aid Mondays (MAM) hosted by Rachel Alter Branham at The Dilly Deli in association with Food Not Bombs
DESCRIPTION:
URL:https://cbstateofmind.org/event/mutual-aid-mondays-mam-hosted-by-rachel-alter-branham-at-the-dilly-deli-in-association-with-food-not-bombs/2026-10-26/
CATEGORIES:Community Connections
ATTACH;FMTTYPE=image/png:https://cbstateofmind.org/wp-content/uploads/2026/04/MutualMondays.png
END:VEVENT
END:VCALENDAR