BEGIN:VCALENDAR
VERSION:2.0
PRODID:-//CB State of Mind - ECPv6.15.20//NONSGML v1.0//EN
CALSCALE:GREGORIAN
METHOD:PUBLISH
X-WR-CALNAME:CB State of Mind
X-ORIGINAL-URL:https://cbstateofmind.org
X-WR-CALDESC:Events for CB State of Mind
REFRESH-INTERVAL;VALUE=DURATION:PT1H
X-Robots-Tag:noindex
X-PUBLISHED-TTL:PT1H
BEGIN:VTIMEZONE
TZID:America/Denver
BEGIN:DAYLIGHT
TZOFFSETFROM:-0700
TZOFFSETTO:-0600
TZNAME:MDT
DTSTART:20250309T090000
END:DAYLIGHT
BEGIN:STANDARD
TZOFFSETFROM:-0600
TZOFFSETTO:-0700
TZNAME:MST
DTSTART:20251102T080000
END:STANDARD
BEGIN:DAYLIGHT
TZOFFSETFROM:-0700
TZOFFSETTO:-0600
TZNAME:MDT
DTSTART:20260308T090000
END:DAYLIGHT
BEGIN:STANDARD
TZOFFSETFROM:-0600
TZOFFSETTO:-0700
TZNAME:MST
DTSTART:20261101T080000
END:STANDARD
BEGIN:DAYLIGHT
TZOFFSETFROM:-0700
TZOFFSETTO:-0600
TZNAME:MDT
DTSTART:20270314T090000
END:DAYLIGHT
BEGIN:STANDARD
TZOFFSETFROM:-0600
TZOFFSETTO:-0700
TZNAME:MST
DTSTART:20271107T080000
END:STANDARD
END:VTIMEZONE
BEGIN:VEVENT
DTSTART;TZID=America/Denver:20260421T173000
DTEND;TZID=America/Denver:20260421T190000
DTSTAMP:20260423T022736
CREATED:20260401T140303Z
LAST-MODIFIED:20260401T140303Z
UID:14234-1776792600-1776798000@cbstateofmind.org
SUMMARY:Talk Saves Lives
DESCRIPTION:Join us at Fred Field for a free Mental Health Awareness Month DINNER and Talk Saves Lives training. Talk Saves Lives is a training program from the American Foundation for Suicide Prevention. It is designed to help us gain a better understanding of what leads someone to consider suicide and learn how to start a conversation with someone you are concerned about.
URL:https://cbstateofmind.org/event/talk-saves-lives/
CATEGORIES:Community Connections,Green Light
ATTACH;FMTTYPE=image/png:https://cbstateofmind.org/wp-content/uploads/2026/04/Gunnison-April-TSL-1-1.pdf.png
END:VEVENT
END:VCALENDAR